BEGIN:VCALENDAR
VERSION:2.0
PRODID:-//Squarespace Inc/Squarespace 6//v6//EN
BEGIN:VEVENT
UID:583509822994ca2c6baba3c2@squarespace.com
DTSTAMP:20161123T041049Z
DTSTART:20161125T233000Z
DTEND:20161126T013000Z
SUMMARY:Combined Youth Carols 
END:VEVENT
END:VCALENDAR
