BEGIN:VCALENDAR
VERSION:2.0
PRODID:-//Squarespace Inc/Squarespace 6//v6//EN
BEGIN:VEVENT
UID:58292d991b631bf14c2485c5@squarespace.com
DTSTAMP:20161123T041205Z
DTSTART:20161209T223000Z
DTEND:20161210T020000Z
SUMMARY:Junior High Friday Fun Night 
END:VEVENT
END:VCALENDAR
