BEGIN:VCALENDAR
VERSION:2.0
PRODID:-//Squarespace Inc/Squarespace 6//v6//EN
BEGIN:VEVENT
UID:58350bd1893fc07e66b22076@squarespace.com
DTSTAMP:20161123T041443Z
DTSTART:20161211T220000Z
DTEND:20161211T233000Z
SUMMARY:Combined Youth Thanksgiving Service 
END:VEVENT
END:VCALENDAR
