BEGIN:VCALENDAR
VERSION:2.0
PRODID:-//Squarespace Inc/Squarespace 6//v6//EN
BEGIN:VEVENT
UID:581e77bee58c62bd097fb805@squarespace.com
DTSTAMP:20170111T003426Z
DTSTART:20170117T180000Z
DTEND:20170121T213000Z
SUMMARY:Christ Church Youth Summer Camp
END:VEVENT
END:VCALENDAR
