BEGIN:VCALENDAR
VERSION:2.0
PRODID:-//Squarespace Inc/Squarespace 6//v6//EN
BEGIN:VEVENT
UID:58828b2137c5818eb9a70645@squarespace.com
DTSTAMP:20170906T020637Z
DTSTART:20171127T170000Z
DTEND:20171209T170000Z
SUMMARY:Fiji School Leavers Trip 2017 
END:VEVENT
END:VCALENDAR
