BEGIN:VCALENDAR
VERSION:2.0
PRODID:-//Squarespace Inc/Squarespace 6//v6//EN
BEGIN:VEVENT
UID:588ed3aebe6594f328607bf4@squarespace.com
DTSTAMP:20170209T043317Z
DTSTART:20170219T170000Z
DTEND:20170219T200000Z
SUMMARY:Year 6 Super Amazing Adventure Day
GEO:-33.730576;151.156352
LOCATION:Christ Church St Ives\, 1 Cowan Road\, St Ives NSW 2075\, Australi
 a
END:VEVENT
END:VCALENDAR
