BEGIN:VCALENDAR
VERSION:2.0
PRODID:-//Squarespace Inc/Squarespace 6//v6//EN
BEGIN:VEVENT
UID:59dd6f546f4ca38096992f55@squarespace.com
DTSTAMP:20171022T234807Z
DTSTART:20171210T223000Z
DTEND:20171212T020000Z
SUMMARY:Senior High Helen Ball
END:VEVENT
END:VCALENDAR
