BEGIN:VCALENDAR
VERSION:2.0
PRODID:-//Squarespace Inc/Squarespace 6//v6//EN
BEGIN:VEVENT
UID:59dd6c0a49fc2bf4afd6ea57@squarespace.com
DTSTAMP:20171011T010541Z
DTSTART:20171208T220000Z
DTEND:20171209T020000Z
SUMMARY:Junior High Friday Fun Night!
END:VEVENT
END:VCALENDAR
