BEGIN:VCALENDAR
VERSION:2.0
PRODID:-//Squarespace Inc/Squarespace 6//v6//EN
BEGIN:VEVENT
UID:58afc600b8a79bfecc0eeba1@squarespace.com
DTSTAMP:20170327T234740Z
DTSTART:20170402T130000Z
DTEND:20170402T210000Z
SUMMARY:SUNDAY FUNDAY 
END:VEVENT
END:VCALENDAR
