BEGIN:VCALENDAR
VERSION:2.0
PRODID:-//Squarespace Inc/Squarespace 6//v6//EN
BEGIN:VEVENT
UID:58b2524b6a4963bcd4d4eac4@squarespace.com
DTSTAMP:20180814T021931Z
DTSTART:20181127T040000Z
DTEND:20181209T045900Z
SUMMARY:School leavers Fiji trip 2018 
END:VEVENT
END:VCALENDAR
