BEGIN:VCALENDAR
VERSION:2.0
PRODID:-//Squarespace Inc/Squarespace 6//v6//EN
BEGIN:VEVENT
UID:591c01d91b10e3cc6bbb43bc@squarespace.com
DTSTAMP:20170524T025744Z
DTSTART:20170526T220000Z
DTEND:20170527T003000Z
SUMMARY:Youth Social Week!
END:VEVENT
END:VCALENDAR
