BEGIN:VCALENDAR
VERSION:2.0
PRODID:-//Squarespace Inc/Squarespace 6//v6//EN
BEGIN:VEVENT
UID:5915448cd2b857304e9755ba@squarespace.com
DTSTAMP:20170512T081734Z
DTSTART:20170701T140000Z
DTEND:20170702T003000Z
SUMMARY:Year 12 Big Day Out!
END:VEVENT
END:VCALENDAR
