BEGIN:VCALENDAR
VERSION:2.0
PRODID:-//Squarespace Inc/Squarespace 6//v6//EN
BEGIN:VEVENT
UID:58eb2a1e9de4bb8d1f111ba1@squarespace.com
DTSTAMP:20170704T081728Z
DTSTART:20170712T130000Z
DTEND:20170716T210000Z
SUMMARY:Winter Camp for Years 6-11!
END:VEVENT
END:VCALENDAR
