BEGIN:VCALENDAR
VERSION:2.0
PRODID:-//Squarespace Inc/Squarespace 6//v6//EN
BEGIN:VEVENT
UID:5980095686e6c0f4f4967c57@squarespace.com
DTSTAMP:20170802T012633Z
DTSTART:20170804T223000Z
DTEND:20170819T003000Z
SUMMARY:Youth Big Fridays
END:VEVENT
END:VCALENDAR
