BEGIN:VCALENDAR
VERSION:2.0
PRODID:-//Squarespace Inc/Squarespace 6//v6//EN
BEGIN:VEVENT
UID:596d804d9de4bbfa6f0cf512@squarespace.com
DTSTAMP:20170925T065826Z
DTSTART:20170923T110000Z
DTEND:20170928T203000Z
SUMMARY:Year 12 Study Camp 2017
END:VEVENT
END:VCALENDAR
