BEGIN:VCALENDAR
VERSION:2.0
PRODID:-//Squarespace Inc/Squarespace 6//v6//EN
BEGIN:VEVENT
UID:59e9dc86c027d8fe1bc06ce8@squarespace.com
DTSTAMP:20180117T032041Z
DTSTART:20180120T170000Z
DTEND:20180124T210000Z
SUMMARY:Summer Camp 2018
END:VEVENT
END:VCALENDAR
