BEGIN:VCALENDAR
VERSION:2.0
PRODID:-//Squarespace Inc/Squarespace 6//v6//EN
BEGIN:VEVENT
UID:5a6fc69ae4966b5767cae23d@squarespace.com
DTSTAMP:20180925T231814Z
DTSTART:20181008T110000Z
DTEND:20181012T193000Z
SUMMARY:Year 12 Study Camp 2018 
END:VEVENT
END:VCALENDAR
