BEGIN:VCALENDAR
VERSION:2.0
PRODID:-//Squarespace Inc/Squarespace 6//v6//EN
BEGIN:VEVENT
UID:5bd7c402c830257899739160@squarespace.com
DTSTAMP:20181030T023927Z
DTSTART:20181207T223000Z
DTEND:20181208T020000Z
SUMMARY:Junior High Friday Fun Night
END:VEVENT
END:VCALENDAR
