BEGIN:VCALENDAR
VERSION:2.0
PRODID:-//Squarespace Inc/Squarespace 6//v6//EN
BEGIN:VEVENT
UID:5bd7c47271c10b8c9f325ffb@squarespace.com
DTSTAMP:20181030T024123Z
DTSTART:20181209T223000Z
DTEND:20181210T020000Z
SUMMARY:Senior High Helen Ball
END:VEVENT
END:VCALENDAR
