BEGIN:VCALENDAR
VERSION:2.0
PRODID:-//Squarespace Inc/Squarespace 6//v6//EN
BEGIN:VEVENT
UID:5a6ead8ce4966b35d93a2be6@squarespace.com
DTSTAMP:20180129T051605Z
DTSTART:20180218T170000Z
DTEND:20180218T200000Z
SUMMARY:Year 6 Super Amazing Adventure Day
END:VEVENT
END:VCALENDAR
