BEGIN:VCALENDAR
VERSION:2.0
PRODID:-//Squarespace Inc/Squarespace 6//v6//EN
BEGIN:VEVENT
UID:5a7d359ce4966b0bea7f99ee@squarespace.com
DTSTAMP:20180329T004931Z
DTSTART:20180406T220000Z
DTEND:20180407T003000Z
SUMMARY:All Youth Social
END:VEVENT
END:VCALENDAR
