BEGIN:VCALENDAR
VERSION:2.0
PRODID:-//Squarespace Inc/Squarespace 6//v6//EN
BEGIN:VEVENT
UID:5acd4ccdf950b79e5840ff3f@squarespace.com
DTSTAMP:20190429T044048Z
DTSTART:20180718T130000Z
DTEND:20180722T210000Z
SUMMARY:Winter Camps Years 6-11
END:VEVENT
END:VCALENDAR
