BEGIN:VCALENDAR
VERSION:2.0
PRODID:-//Squarespace Inc/Squarespace 6//v6//EN
BEGIN:VEVENT
UID:5af5435e6d2a733614bf70c8@squarespace.com
DTSTAMP:20180612T234129Z
DTSTART:20180707T140000Z
DTEND:20180708T003000Z
SUMMARY:Year 12 Big Day Out
END:VEVENT
END:VCALENDAR
