BEGIN:VCALENDAR
VERSION:2.0
PRODID:-//Squarespace Inc/Squarespace 6//v6//EN
BEGIN:VEVENT
UID:5bd7c2b9ec212d6c353c10f7@squarespace.com
DTSTAMP:20191103T233032Z
DTSTART:20190119T150000Z
DTEND:20190123T220000Z
SUMMARY:Summer Camp 2019
END:VEVENT
END:VCALENDAR
