BEGIN:VCALENDAR
VERSION:2.0
PRODID:-//Squarespace Inc/Squarespace 6//v6//EN
BEGIN:VEVENT
UID:5dbf5f2f7e97a73b82814827@squarespace.com
DTSTAMP:20191115T003428Z
DTSTART:20191206T223000Z
DTEND:20191207T020000Z
SUMMARY:Junior High Friday Fun Night
GEO:-33.73068;151.156626
LOCATION:Christ Church St Ives\, 1 Cowan Road\, St Ives\, Australia
END:VEVENT
END:VCALENDAR
