BEGIN:VCALENDAR
VERSION:2.0
PRODID:-//Squarespace Inc/Squarespace 6//v6//EN
BEGIN:VEVENT
UID:5dbf5bf17e97a73b8281031c@squarespace.com
DTSTAMP:20191108T054802Z
DTSTART:20191208T223000Z
DTEND:20191209T020000Z
SUMMARY:Senior High Helen Ball
GEO:-33.838332;151.175998
LOCATION:Valentia St\, Woolwich\, NSW\, 2110\, Australia
END:VEVENT
END:VCALENDAR
