BEGIN:VCALENDAR
VERSION:2.0
PRODID:-//Squarespace Inc/Squarespace 6//v6//EN
BEGIN:VEVENT
UID:5c5a60aeeb3931523e33d720@squarespace.com
DTSTAMP:20200129T025556Z
DTSTART:20200216T170000Z
DTEND:20200216T200000Z
SUMMARY:Year 6 Super Amazing Adventure Day
END:VEVENT
END:VCALENDAR
