BEGIN:VCALENDAR
VERSION:2.0
PRODID:-//Squarespace Inc/Squarespace 6//v6//EN
BEGIN:VEVENT
UID:5d0333e83f54e00001f3ec31@squarespace.com
DTSTAMP:20190614T080801Z
DTSTART:20190706T140000Z
DTEND:20190707T003000Z
SUMMARY:Year 12 Big Day Out
END:VEVENT
END:VCALENDAR
