BEGIN:VCALENDAR
VERSION:2.0
PRODID:-//Squarespace Inc/Squarespace 6//v6//EN
BEGIN:VEVENT
UID:5e4399133554851248e80a74@squarespace.com
DTSTAMP:20200212T063201Z
DTSTART:20201126T170000Z
DTEND:20201203T210000Z
SUMMARY:School Leavers Gerringong Trip 2020
END:VEVENT
END:VCALENDAR
