BEGIN:VCALENDAR
VERSION:2.0
PRODID:-//Squarespace Inc/Squarespace 6//v6//EN
BEGIN:VEVENT
UID:5d087c6e533eeb0001d647ef@squarespace.com
DTSTAMP:20190618T064919Z
DTSTART:20191127T140000Z
DTEND:20191204T220000Z
SUMMARY:School Leavers Gerringong Trip 2019
END:VEVENT
END:VCALENDAR
