BEGIN:VCALENDAR
VERSION:2.0
PRODID:-//Squarespace Inc/Squarespace 6//v6//EN
BEGIN:VEVENT
UID:5e43999fe18410652618eb10@squarespace.com
DTSTAMP:20200212T231836Z
DTSTART:20200715T130000Z
DTEND:20200719T210000Z
SUMMARY:Winter Camps 2020
GEO:-34.857622;150.513028
LOCATION:Youthworks Shoalhaven Conference Centres\, 439 Koloona Drive\, Wat
 ersleigh\, NSW\, 2540\, Australia
END:VEVENT
END:VCALENDAR
