BEGIN:VCALENDAR
VERSION:2.0
PRODID:-//Squarespace Inc/Squarespace 6//v6//EN
BEGIN:VEVENT
UID:5cc680500717dc000135d244@squarespace.com
DTSTAMP:20200212T062223Z
DTSTART:20190717T130000Z
DTEND:20190721T210000Z
SUMMARY:Winter Camps 2019
GEO:-34.857622;150.513028
LOCATION:Youthworks Shoalhaven Conference Centres\, 439 Koloona Drive\, Wat
 ersleigh\, NSW\, 2540\, Australia
END:VEVENT
END:VCALENDAR
