BEGIN:VCALENDAR
VERSION:2.0
PRODID:-//Squarespace Inc/Squarespace 6//v6//EN
BEGIN:VEVENT
UID:5e43993a907ec801daf8f466@squarespace.com
DTSTAMP:20200212T062207Z
DTSTART:20210116T170000Z
DTEND:20210120T210000Z
SUMMARY:Summer Camp 2021 (Save the Date)
GEO:-34.071457;151.104793
LOCATION:Youthworks Port Hacking
END:VEVENT
END:VCALENDAR
