BEGIN:VCALENDAR
VERSION:2.0
PRODID:-//Squarespace Inc/Squarespace 6//v6//EN
BEGIN:VEVENT
UID:5dbf631869d48f23f8d97cc6@squarespace.com
DTSTAMP:20191117T233539Z
DTSTART:20200118T170000Z
DTEND:20200122T220000Z
SUMMARY:Summercamp 2020
GEO:-34.071457;151.104793
LOCATION:Youthworks Port Hacking
END:VEVENT
END:VCALENDAR
