BEGIN:VCALENDAR
VERSION:2.0
PRODID:-//Squarespace Inc/Squarespace 6//v6//EN
BEGIN:VEVENT
UID:5c6ca7ee971a182da524ee6b@squarespace.com
DTSTAMP:20190318T222920Z
DTSTART:20190405T213000Z
DTEND:20190406T010000Z
SUMMARY:All Youth Social 2019
GEO:-33.848158;151.209953
LOCATION:Luna Park\, Sydney\, 1 Olympic Drive\, Milsons Point\, Sydney
END:VEVENT
END:VCALENDAR
