BEGIN:VCALENDAR
VERSION:2.0
PRODID:-//Squarespace Inc/Squarespace 6//v6//EN
BEGIN:VEVENT
UID:581e77d99de4bb43a9b6043d@squarespace.com
DTSTAMP:20161119T223914Z
DTSTART:20161120T223000Z
DTEND:20161121T020000Z
SUMMARY:Helen Ball
GEO:-33.842093;151.180799
LOCATION:Greenwich Point Wharf\, Greenwich Point Wharf
END:VEVENT
END:VCALENDAR
